BEGIN:VCALENDAR
VERSION:2.0
PRODID:-//Pikkarala Frisbeegolf - ECPv6.15.20//NONSGML v1.0//EN
CALSCALE:GREGORIAN
METHOD:PUBLISH
X-ORIGINAL-URL:https://pikkaralafrisbeegolf.fi
X-WR-CALDESC:Events for Pikkarala Frisbeegolf
REFRESH-INTERVAL;VALUE=DURATION:PT1H
X-Robots-Tag:noindex
X-PUBLISHED-TTL:PT1H
BEGIN:VTIMEZONE
TZID:Europe/Helsinki
BEGIN:DAYLIGHT
TZOFFSETFROM:+0200
TZOFFSETTO:+0300
TZNAME:EEST
DTSTART:20140330T010000
END:DAYLIGHT
BEGIN:STANDARD
TZOFFSETFROM:+0300
TZOFFSETTO:+0200
TZNAME:EET
DTSTART:20141026T010000
END:STANDARD
BEGIN:DAYLIGHT
TZOFFSETFROM:+0200
TZOFFSETTO:+0300
TZNAME:EEST
DTSTART:20150329T010000
END:DAYLIGHT
BEGIN:STANDARD
TZOFFSETFROM:+0300
TZOFFSETTO:+0200
TZNAME:EET
DTSTART:20151025T010000
END:STANDARD
BEGIN:DAYLIGHT
TZOFFSETFROM:+0200
TZOFFSETTO:+0300
TZNAME:EEST
DTSTART:20160327T010000
END:DAYLIGHT
BEGIN:STANDARD
TZOFFSETFROM:+0300
TZOFFSETTO:+0200
TZNAME:EET
DTSTART:20161030T010000
END:STANDARD
END:VTIMEZONE
BEGIN:VEVENT
DTSTART;TZID=Europe/Helsinki:20150919T083000
DTEND;TZID=Europe/Helsinki:20150920T180000
DTSTAMP:20260420T230034
CREATED:20150911T152615Z
LAST-MODIFIED:20150913T050834Z
UID:611-1442651400-1442772000@pikkaralafrisbeegolf.fi
SUMMARY:Pikkaralan syyskisa 2015
DESCRIPTION:Pikkarala frisbeegolfin ratahanke on edistynyt sille mallille\, että pääsemme pelaamaan ensimmäiset kisat 19.-20.9.2015. Lauantaina pelataan yksisarjainen parikisa ja sunnuntaina kilpaillaan sarjoittain (Prot\, Amatöörit\, Naiset ja Seniorit +40v) yksilökisojen voitoista.  \nTarkempia tietoja kisasta löydät OFS:n kisakoneesta sivun alareunan linkin kautta. \nPikkarala Frisbeegolfin uuden radan ensikilpailut: lisätietoja tulee lähiaikoina
URL:https://pikkaralafrisbeegolf.fi/tapahtuma/pikkaralan-mestaruuskilpailut/
ORGANIZER;CN="Pikkarala Frisbeegolf":MAILTO:webbi@pikkaralafrisbeegolf.fi
END:VEVENT
END:VCALENDAR