BEGIN:VCALENDAR
VERSION:2.0
PRODID:-//Pikkarala Frisbeegolf - ECPv6.15.20//NONSGML v1.0//EN
CALSCALE:GREGORIAN
METHOD:PUBLISH
X-WR-CALNAME:Pikkarala Frisbeegolf
X-ORIGINAL-URL:https://pikkaralafrisbeegolf.fi
X-WR-CALDESC:Events for Pikkarala Frisbeegolf
REFRESH-INTERVAL;VALUE=DURATION:PT1H
X-Robots-Tag:noindex
X-PUBLISHED-TTL:PT1H
BEGIN:VTIMEZONE
TZID:Europe/Helsinki
BEGIN:DAYLIGHT
TZOFFSETFROM:+0200
TZOFFSETTO:+0300
TZNAME:EEST
DTSTART:20140330T010000
END:DAYLIGHT
BEGIN:STANDARD
TZOFFSETFROM:+0300
TZOFFSETTO:+0200
TZNAME:EET
DTSTART:20141026T010000
END:STANDARD
BEGIN:DAYLIGHT
TZOFFSETFROM:+0200
TZOFFSETTO:+0300
TZNAME:EEST
DTSTART:20150329T010000
END:DAYLIGHT
BEGIN:STANDARD
TZOFFSETFROM:+0300
TZOFFSETTO:+0200
TZNAME:EET
DTSTART:20151025T010000
END:STANDARD
BEGIN:DAYLIGHT
TZOFFSETFROM:+0200
TZOFFSETTO:+0300
TZNAME:EEST
DTSTART:20160327T010000
END:DAYLIGHT
BEGIN:STANDARD
TZOFFSETFROM:+0300
TZOFFSETTO:+0200
TZNAME:EET
DTSTART:20161030T010000
END:STANDARD
END:VTIMEZONE
BEGIN:VEVENT
DTSTART;TZID=Europe/Helsinki:20151010T090000
DTEND;TZID=Europe/Helsinki:20151010T170000
DTSTAMP:20260420T215017
CREATED:20151004T171451Z
LAST-MODIFIED:20151004T172358Z
UID:726-1444467600-1444496400@pikkaralafrisbeegolf.fi
SUMMARY:Tiipaikkaympäristöjen tasoittelutalkoot 10.10. klo 9.00 alkaen
DESCRIPTION:Talkoiden kohteena on tiipaikkojen ympäristöjen tasoittaminen parempaan pelikuntoon. Toisena kohteena on väylien ja koripaikkojen ympäristöjen parantaminen levittämällä haketta väylien muutamiin kohtiin. Pyrimme siihen\, että mönkijän lisäksi käytössä olisi traktori\, jonka avulla tiipaikkaympäristöjen tasoittaminen ja hakkeen kuljettaminen onnistuvat nopeasti. Edellisten talkoiden tapaan talkootyö noteerataan seuraavalla tavalla per talkoolainen: kaksi ilmaista testipäivälippua per talkoopäivä. Ilmaisten testilippujen voimassaoloaika on kauden 2016 loppuun saakka.
URL:https://pikkaralafrisbeegolf.fi/tapahtuma/tiipaikkaymparistojen-talkoot-10-10-klo-9-00-alkaen/
LOCATION:Ratatalkoo\, Pikkarala\, Oulu
END:VEVENT
END:VCALENDAR